BEGIN:VCALENDAR
VERSION:2.0
PRODID:-//wp-events-plugin.com//7.2.3.1//EN
TZID:Europe/Madrid
X-WR-TIMEZONE:Europe/Madrid
BEGIN:VEVENT
UID:1@fnclm.com
DTSTART;TZID=Europe/Madrid:20260328T000000
DTEND;TZID=Europe/Madrid:20260329T000000
DTSTAMP:20260409T165949Z
URL:https://www.fnclm.com/wordpress/?event=2a-jornada-liga-clubes-de-natac
 ion-master-de-clm
SUMMARY:2ª Jornada Liga Clubes de Natación Máster de CLM
DESCRIPTION:
CATEGORIES:Máster
END:VEVENT
BEGIN:VEVENT
UID:2@fnclm.com
DTSTART;TZID=Europe/Madrid:20260410T000000
DTEND;TZID=Europe/Madrid:20260412T235900
DTSTAMP:20260409T180236Z
URL:https://www.fnclm.com/wordpress/?event=campeonato-de-espana-junior-y-s
 enior-de-invierno-de-natacion-artistica
SUMMARY:Campeonato de España Junior y Senior de Invierno de Natación Art
 ística
DESCRIPTION:\n\n&nbsp\;
ATTACH;FMTTYPE=image/jpeg:https://www.fnclm.com/wordpress/wp-content/uploa
 ds/Cartel-CTO.jpg
CATEGORIES:Natación Artística
LOCATION:Centro de Deportes Acuáticos de Puerto de la Cruz\, Puerto de la 
 Cruz (Tenerife) \, 
X-APPLE-STRUCTURED-LOCATION;VALUE=URI;X-ADDRESS=Puerto de la Cruz (Tenerife
 ) \, ;X-APPLE-RADIUS=100;X-TITLE=Centro de Deportes Acuáticos de Puerto d
 e la Cruz:geo:0,0
END:VEVENT
BEGIN:VEVENT
UID:3@fnclm.com
DTSTART;TZID=Europe/Madrid;VALUE=DATE:20260410
DTEND;TZID=Europe/Madrid;VALUE=DATE:20260413
DTSTAMP:20260409T172212Z
URL:https://www.fnclm.com/wordpress/?event=campeonato-de-espana-universita
 rio-de-natacion-2026
SUMMARY:Campeonato de España Universitario de Natación 2026
DESCRIPTION:
ATTACH;FMTTYPE=image/jpeg:https://www.fnclm.com/wordpress/wp-content/uploa
 ds/CEU26_MARCA_01_color.jpg.webp
CATEGORIES:Nacionales
LOCATION:Universidad de Granada (Centro de Actividades Deportivas)\, Univer
 sidad de Granada (Centro de Actividades Deportivas) \, Granada\, Andalucí
 a\, 
X-APPLE-STRUCTURED-LOCATION;VALUE=URI;X-ADDRESS=Universidad de Granada (Cen
 tro de Actividades Deportivas) \, Granada\, Andalucía\, ;X-APPLE-RADIUS=1
 00;X-TITLE=Universidad de Granada (Centro de Actividades Deportivas):geo:0
 ,0
END:VEVENT
BEGIN:VEVENT
UID:4@fnclm.com
DTSTART;TZID=Europe/Madrid;VALUE=DATE:20260411
DTEND;TZID=Europe/Madrid;VALUE=DATE:20260412
DTSTAMP:20260409T172643Z
URL:https://www.fnclm.com/wordpress/?event=5a-jornada-somos-deporte-3-18-a
 lbacete
SUMMARY:5ª Jornada Somos Deporte 3-18 – Albacete
DESCRIPTION:
ATTACH;FMTTYPE=image/jpeg:https://www.fnclm.com/wordpress/wp-content/uploa
 ds/Natacion.jpeg
CATEGORIES:Albacete
LOCATION:La Roda\, Albacete\, Almansa\, La Roda\, Albacete\, Almansa\, La R
 oda\, Albacete\, Almansa\, 
X-APPLE-STRUCTURED-LOCATION;VALUE=URI;X-ADDRESS=La Roda\, Albacete\, Almans
 a\, La Roda\, Albacete\, Almansa\, ;X-APPLE-RADIUS=100;X-TITLE=La Roda\, A
 lbacete\, Almansa:geo:0,0
END:VEVENT
BEGIN:VEVENT
UID:5@fnclm.com
DTSTART;TZID=Europe/Madrid;VALUE=DATE:20260411
DTEND;TZID=Europe/Madrid;VALUE=DATE:20260412
DTSTAMP:20260409T172906Z
URL:https://www.fnclm.com/wordpress/?event=4a-jornada-somos-deporte-cuenca
SUMMARY:4ª Jornada Somos Deporte – Cuenca
DESCRIPTION:
ATTACH;FMTTYPE=image/jpeg:https://www.fnclm.com/wordpress/wp-content/uploa
 ds/CartelSomosDeporteCuenca.jpeg
CATEGORIES:Cuenca
LOCATION:Cuenca\, Cuenca\, 
X-APPLE-STRUCTURED-LOCATION;VALUE=URI;X-ADDRESS=Cuenca\, ;X-APPLE-RADIUS=10
 0;X-TITLE=Cuenca:geo:0,0
END:VEVENT
BEGIN:VEVENT
UID:6@fnclm.com
DTSTART;TZID=Europe/Madrid;VALUE=DATE:20260411
DTEND;TZID=Europe/Madrid;VALUE=DATE:20260413
DTSTAMP:20260409T180600Z
URL:https://www.fnclm.com/wordpress/?event=5a-jornada-somos-deporte-3-18-c
 iudad-real
SUMMARY:5ª Jornada Somos Deporte 3-18 – Ciudad Real
DESCRIPTION:
ATTACH;FMTTYPE=image/jpeg:https://www.fnclm.com/wordpress/wp-content/uploa
 ds/CartelSomosDeporteCiudadReal.jpeg
CATEGORIES:Ciudad Real
LOCATION:Alcázar de San Juan – Puertollano – Valdepeñas\, Alcázar de
  San Juan – Puertollano – Valdepeñas\, Alcázar de San Juan – Puert
 ollano – Valdepeñas\, Castilla-La Mancha\, España
X-APPLE-STRUCTURED-LOCATION;VALUE=URI;X-ADDRESS=Alcázar de San Juan – Pu
 ertollano – Valdepeñas\, Alcázar de San Juan – Puertollano – Valde
 peñas\, Castilla-La Mancha\, España;X-APPLE-RADIUS=100;X-TITLE=Alcázar 
 de San Juan – Puertollano – Valdepeñas:geo:0,0
END:VEVENT
BEGIN:VEVENT
UID:7@fnclm.com
DTSTART;TZID=Europe/Madrid;VALUE=DATE:20260411
DTEND;TZID=Europe/Madrid;VALUE=DATE:20260413
DTSTAMP:20260409T181325Z
URL:https://www.fnclm.com/wordpress/?event=5a-jornada-somos-deporte-3-18-t
 oledo
SUMMARY:5ª Jornada Somos Deporte 3-18 – Toledo
DESCRIPTION:
ATTACH;FMTTYPE=image/jpeg:https://www.fnclm.com/wordpress/wp-content/uploa
 ds/Toledo-1.png
CATEGORIES:Toledo
LOCATION:Talavera de la Reina  – Ugena\, Talavera de la Reina – Toledo 
 – Ugena\, Talavera de la Reina – Toledo – Ugena\, España
X-APPLE-STRUCTURED-LOCATION;VALUE=URI;X-ADDRESS=Talavera de la Reina – To
 ledo – Ugena\, Talavera de la Reina – Toledo – Ugena\, España;X-APP
 LE-RADIUS=100;X-TITLE=Talavera de la Reina  – Ugena:geo:0,0
END:VEVENT
BEGIN:VEVENT
UID:8@fnclm.com
DTSTART;TZID=Europe/Madrid;VALUE=DATE:20260412
DTEND;TZID=Europe/Madrid;VALUE=DATE:20260413
DTSTAMP:20260409T190703Z
URL:https://www.fnclm.com/wordpress/?event=iv-torneo-master-c-d-escuela-na
 dadores-tomelloso-y-argamasilla-de-alba
SUMMARY:IV Torneo Máster C.D. Escuela Nadadores Tomelloso y Argamasilla de
  Alba
DESCRIPTION:
ATTACH;FMTTYPE=image/jpeg:https://www.fnclm.com/wordpress/wp-content/uploa
 ds/TorneoCDEscuelaNadadoresTomelloso.png
CATEGORIES:Máster,Trofeos - Competiciones Clubes
LOCATION:Piscina Climatizada de Tomelloso\, Avenida de Niort\, Tomelloso \,
  España
X-APPLE-STRUCTURED-LOCATION;VALUE=URI;X-ADDRESS=Avenida de Niort\, Tomellos
 o \, España;X-APPLE-RADIUS=100;X-TITLE=Piscina Climatizada de Tomelloso:g
 eo:0,0
END:VEVENT
BEGIN:VEVENT
UID:9@fnclm.com
DTSTART;TZID=Europe/Madrid:20260414T120000
DTEND;TZID=Europe/Madrid:20260414T120000
DTSTAMP:20260409T182211Z
URL:https://www.fnclm.com/wordpress/?event=plazo-tope-inscripcion-4a-jorna
 da-liga-de-clm-master
SUMMARY:Plazo tope inscripción 4ª Jornada Liga de CLM Máster
DESCRIPTION:[caption id="attachment_58009" align="aligncenter" width="300"]
  DEADLINE FLAT ICON[/caption]
ATTACH;FMTTYPE=image/jpeg:https://www.fnclm.com/wordpress/wp-content/uploa
 ds/plazo-612x612-1.jpg
CATEGORIES:Plazos Tope
END:VEVENT
BEGIN:VEVENT
UID:10@fnclm.com
DTSTART;TZID=Europe/Madrid;VALUE=DATE:20260418
DTEND;TZID=Europe/Madrid;VALUE=DATE:20260419
DTSTAMP:20260413T181733Z
URL:https://www.fnclm.com/wordpress/?event=copa-de-clubes-de-natacion-de-c
 astilla-la-mancha
SUMMARY:Copa de Clubes de Natación de Castilla-La Mancha
DESCRIPTION:
ATTACH;FMTTYPE=image/jpeg:https://www.fnclm.com/wordpress/wp-content/uploa
 ds/CopaClubesCLM.jpeg
CATEGORIES:Regional
LOCATION:Tomelloso (Ciudad Real)\, Tomelloso (Ciudad Real) \, Tomelloso (Ci
 udad Real) \, España
X-APPLE-STRUCTURED-LOCATION;VALUE=URI;X-ADDRESS=Tomelloso (Ciudad Real) \, 
 Tomelloso (Ciudad Real) \, España;X-APPLE-RADIUS=100;X-TITLE=Tomelloso (C
 iudad Real):geo:0,0
END:VEVENT
BEGIN:VEVENT
UID:11@fnclm.com
DTSTART;TZID=Europe/Madrid:20260418T100000
DTEND;TZID=Europe/Madrid:20260418T130000
DTSTAMP:20260413T180554Z
URL:https://www.fnclm.com/wordpress/?event=prog-especial-seguimiento-natac
 ion-artistica-alevin-infantil
SUMMARY:Prog. Especial Seguimiento Natación Artística – Alevín-Infanti
 l
DESCRIPTION:
ATTACH;FMTTYPE=image/jpeg:https://www.fnclm.com/wordpress/wp-content/uploa
 ds/Programa_seguimiento_Alev_Inf_18_Abril.jpg
CATEGORIES:Natación Artística
LOCATION:Facultad de Ciencias del Deporte (Toledo)\, Facultad de Ciencias d
 el Deporte (Toledo) \, Facultad de Ciencias del Deporte (Toledo) \, Españ
 a
X-APPLE-STRUCTURED-LOCATION;VALUE=URI;X-ADDRESS=Facultad de Ciencias del De
 porte (Toledo) \, Facultad de Ciencias del Deporte (Toledo) \, España;X-A
 PPLE-RADIUS=100;X-TITLE=Facultad de Ciencias del Deporte (Toledo):geo:0,0
END:VEVENT
BEGIN:VEVENT
UID:42@fnclm.com
DTSTART;TZID=Europe/Madrid:20260418T150000
DTEND;TZID=Europe/Madrid:20260418T160000
DTSTAMP:20260416T184347Z
URL:https://www.fnclm.com/wordpress/?event=c-w-poseidon-c-n-ciudad-real
SUMMARY:Liga Absoluta FNCLM de Waterpolo - C.W. Poseidón - C.N. Ciudad Rea
 l
DESCRIPTION:
ATTACH;FMTTYPE=image/jpeg:https://www.fnclm.com/wordpress/wp-content/uploa
 ds/partido_ciudad_real_talavera.jpg
CATEGORIES:Waterpolo
LOCATION:Piscina Municipal El Prado (Talavera de la Reina)\, Piscina Munici
 pal El Prado (Talavera de la Reina) \, Piscina Municipal El Prado (Talaver
 a de la Reina) \, España
X-APPLE-STRUCTURED-LOCATION;VALUE=URI;X-ADDRESS=Piscina Municipal El Prado 
 (Talavera de la Reina) \, Piscina Municipal El Prado (Talavera de la Reina
 ) \, España;X-APPLE-RADIUS=100;X-TITLE=Piscina Municipal El Prado (Talave
 ra de la Reina):geo:0,0
END:VEVENT
BEGIN:VEVENT
UID:12@fnclm.com
DTSTART;TZID=Europe/Madrid:20260419T100000
DTEND;TZID=Europe/Madrid:20260419T140000
DTSTAMP:20260413T181547Z
URL:https://www.fnclm.com/wordpress/?event=prog-especial-seguimiento-natac
 ion-artistica-junior-y-senior
SUMMARY:Prog. Especial Seguimiento Natación Artística – Junior y Senior
DESCRIPTION:
ATTACH;FMTTYPE=image/jpeg:https://www.fnclm.com/wordpress/wp-content/uploa
 ds/Programa_Seguimiento_Junior_19_abril.jpg
CATEGORIES:Natación Artística
LOCATION:Complejo Deportivo Nuevo Toledo (Illescas)\, Complejo Deportivo Nu
 evo Toledo (Illescas)\, Complejo Deportivo Nuevo Toledo (Illescas)\, 
X-APPLE-STRUCTURED-LOCATION;VALUE=URI;X-ADDRESS=Complejo Deportivo Nuevo To
 ledo (Illescas)\, Complejo Deportivo Nuevo Toledo (Illescas)\, ;X-APPLE-RA
 DIUS=100;X-TITLE=Complejo Deportivo Nuevo Toledo (Illescas):geo:0,0
END:VEVENT
BEGIN:VEVENT
UID:40@fnclm.com
DTSTART;TZID=Europe/Madrid;VALUE=DATE:20260424
DTEND;TZID=Europe/Madrid;VALUE=DATE:20260427
DTSTAMP:20260420T123717Z
URL:https://www.fnclm.com/wordpress/?event=xxviii-campeonato-de-espana-de-
 aguas-abiertas-open
SUMMARY:XXVIII CAMPEONATO DE ESPAÑA DE AGUAS ABIERTAS OPEN
DESCRIPTION:
ATTACH;FMTTYPE=image/jpeg:https://www.fnclm.com/wordpress/wp-content/uploa
 ds/Captura_Cto_mundo_AA_2026.jpg
CATEGORIES:Aguas Abiertas,Nacionales
LOCATION:Santa Eulària des Riu (Ibiza) CNSE Sailing Club Santa Eulària\, 
 Santa Eulària des Riu (Ibiza) CNSE Sailing Club Santa Eulària\, Santa Eu
 lària des Riu (Ibiza) CNSE Sailing Club Santa Eulària\, Santa Eulària d
 es Riu (Ibiza) CNSE Sailing Club Santa Eulària\, España
X-APPLE-STRUCTURED-LOCATION;VALUE=URI;X-ADDRESS=Santa Eulària des Riu (Ibi
 za) CNSE Sailing Club Santa Eulària\, Santa Eulària des Riu (Ibiza) CNSE
  Sailing Club Santa Eulària\, Santa Eulària des Riu (Ibiza) CNSE Sailing
  Club Santa Eulària\, España;X-APPLE-RADIUS=100;X-TITLE=Santa Eulària d
 es Riu (Ibiza) CNSE Sailing Club Santa Eulària:geo:0,0
END:VEVENT
BEGIN:VEVENT
UID:14@fnclm.com
DTSTART;TZID=Europe/Madrid;VALUE=DATE:20260425
DTEND;TZID=Europe/Madrid;VALUE=DATE:20260427
DTSTAMP:20260420T124124Z
URL:https://www.fnclm.com/wordpress/?event=3a-jornada-liga-clubes-de-natac
 ion-master-de-clm
SUMMARY:3ª Jornada Liga Clubes de Natación Máster de CLM
DESCRIPTION:
ATTACH;FMTTYPE=image/jpeg:https://www.fnclm.com/wordpress/wp-content/uploa
 ds/LigaMaster.jpg
CATEGORIES:Máster
LOCATION:La Roda\, Ciudad Real\, Guadalajara\, La Roda\, Ciudad Real\, Guad
 alajara\, La Roda\, Ciudad Real\, Guadalajara\, España
X-APPLE-STRUCTURED-LOCATION;VALUE=URI;X-ADDRESS=La Roda\, Ciudad Real\, Gua
 dalajara\, La Roda\, Ciudad Real\, Guadalajara\, España;X-APPLE-RADIUS=10
 0;X-TITLE=La Roda\, Ciudad Real\, Guadalajara:geo:0,0
END:VEVENT
BEGIN:VEVENT
UID:13@fnclm.com
DTSTART;TZID=Europe/Madrid;VALUE=DATE:20260425
DTEND;TZID=Europe/Madrid;VALUE=DATE:20260427
DTSTAMP:20260420T123919Z
URL:https://www.fnclm.com/wordpress/?event=xvi-campeonato-de-espana-master
 -de-aguas-abiertas
SUMMARY:XVI Campeonato de España Máster de Aguas Abiertas
DESCRIPTION:
ATTACH;FMTTYPE=image/jpeg:https://www.fnclm.com/wordpress/wp-content/uploa
 ds/cartel6.jpg
CATEGORIES:Máster,Nacionales
LOCATION:Santa Eulària des Riu (Ibiza)\, Santa Eulària des Riu (Ibiza) \,
  Santa Eulària des Riu (Ibiza) \, España
X-APPLE-STRUCTURED-LOCATION;VALUE=URI;X-ADDRESS=Santa Eulària des Riu (Ibi
 za) \, Santa Eulària des Riu (Ibiza) \, España;X-APPLE-RADIUS=100;X-TITL
 E=Santa Eulària des Riu (Ibiza):geo:0,0
END:VEVENT
BEGIN:VEVENT
UID:43@fnclm.com
DTSTART;TZID=Europe/Madrid:20260425T000000
DTEND;TZID=Europe/Madrid:20260426T000000
DTSTAMP:20260421T062546Z
URL:https://www.fnclm.com/wordpress/?event=campeonato-territorial-primaver
 a-open-natacion-artistica-de-clm-2026
SUMMARY:CAMPEONATO TERRITORIAL PRIMAVERA OPEN NATACIÓN ARTÍSTICA DE CLM 2
 026
DESCRIPTION:
ATTACH;FMTTYPE=image/jpeg:https://www.fnclm.com/wordpress/wp-content/uploa
 ds/20260425-26-CARTEL-CTO-REGIONAL-PRIMAVERA.png
CATEGORIES:Natación Artística
LOCATION:Piscina Juan de Toledo (Albacete)\, Piscina Juan de Toledo (Albace
 te)\, Piscina Juan de Toledo (Albacete)\, España
X-APPLE-STRUCTURED-LOCATION;VALUE=URI;X-ADDRESS=Piscina Juan de Toledo (Alb
 acete)\, Piscina Juan de Toledo (Albacete)\, España;X-APPLE-RADIUS=100;X-
 TITLE=Piscina Juan de Toledo (Albacete):geo:0,0
END:VEVENT
BEGIN:VEVENT
UID:15@fnclm.com
DTSTART;TZID=Europe/Madrid;VALUE=DATE:20260426
DTEND;TZID=Europe/Madrid;VALUE=DATE:20260427
DTSTAMP:20260420T124159Z
URL:https://www.fnclm.com/wordpress/?event=6a-jornada-somos-deporte-3-18-g
 uadalajara
SUMMARY:6ª Jornada Somos Deporte 3-18 – Guadalajara
DESCRIPTION:
ATTACH;FMTTYPE=image/jpeg:https://www.fnclm.com/wordpress/wp-content/uploa
 ds/Guadalajara.png
CATEGORIES:Guadalajara
END:VEVENT
BEGIN:VEVENT
UID:41@fnclm.com
DTSTART;TZID=Europe/Madrid:20260429T180000
DTEND;TZID=Europe/Madrid:20260429T180000
DTSTAMP:20260416T151703Z
URL:https://www.fnclm.com/wordpress/?event=acto-de-entrega-de-los-premios-
 y-distinciones-al-merito-deportivo-de-castilla-la-mancha-2025
SUMMARY:Acto de entrega de los Premios y Distinciones al Mérito Deportivo 
 de Castilla-La Mancha 2025
DESCRIPTION:
ATTACH;FMTTYPE=image/jpeg:https://www.fnclm.com/wordpress/wp-content/uploa
 ds/Banner-Merito-Deportivo.png.jpeg
CATEGORIES:Regional
LOCATION:Motilla del Palancar (Cuenca)\, Motilla del Palancar (Cuenca) \, M
 otilla del Palancar (Cuenca) \, España
X-APPLE-STRUCTURED-LOCATION;VALUE=URI;X-ADDRESS=Motilla del Palancar (Cuenc
 a) \, Motilla del Palancar (Cuenca) \, España;X-APPLE-RADIUS=100;X-TITLE=
 Motilla del Palancar (Cuenca):geo:0,0
END:VEVENT
BEGIN:VEVENT
UID:20@fnclm.com
DTSTART;TZID=Europe/Madrid;VALUE=DATE:20260509
DTEND;TZID=Europe/Madrid;VALUE=DATE:20260510
DTSTAMP:20260410T170812Z
URL:https://www.fnclm.com/wordpress/?event=6a-jornada-somos-deporte-3-18-a
 lbacete
SUMMARY:6ª Jornada Somos Deporte 3-18 - Albacete
DESCRIPTION:
ATTACH;FMTTYPE=image/jpeg:https://www.fnclm.com/wordpress/wp-content/uploa
 ds/Natacion.jpeg
CATEGORIES:Albacete
LOCATION:Almansa\, Albacete\, La Roda\, Almansa\, Albacete\, La Roda\, Alma
 nsa\, Albacete\, La Roda\, España
X-APPLE-STRUCTURED-LOCATION;VALUE=URI;X-ADDRESS=Almansa\, Albacete\, La Rod
 a\, Almansa\, Albacete\, La Roda\, España;X-APPLE-RADIUS=100;X-TITLE=Alma
 nsa\, Albacete\, La Roda:geo:0,0
END:VEVENT
BEGIN:VEVENT
UID:17@fnclm.com
DTSTART;TZID=Europe/Madrid;VALUE=DATE:20260509
DTEND;TZID=Europe/Madrid;VALUE=DATE:20260511
DTSTAMP:20260410T165115Z
URL:https://www.fnclm.com/wordpress/?event=campeonato-de-espana-infantil-p
 or-ff-aa-de-natacion-artistica
SUMMARY:Campeonato de España Infantil por FF.AA. de Natación Artística
DESCRIPTION:
CATEGORIES:Nacionales,Natación Artística
LOCATION:Piscina M-86 (Madrid)\, Piscina M-86 (Madrid) \, Madrid \, España
X-APPLE-STRUCTURED-LOCATION;VALUE=URI;X-ADDRESS=Piscina M-86 (Madrid) \, Ma
 drid \, España;X-APPLE-RADIUS=100;X-TITLE=Piscina M-86 (Madrid):geo:0,0
END:VEVENT
BEGIN:VEVENT
UID:18@fnclm.com
DTSTART;TZID=Europe/Madrid;VALUE=DATE:20260509
DTEND;TZID=Europe/Madrid;VALUE=DATE:20260511
DTSTAMP:20260416T151840Z
URL:https://www.fnclm.com/wordpress/?event=6a-jornada-somos-deporte-3-18-c
 iudad-real
SUMMARY:6ª Jornada Somos Deporte 3-18 – Ciudad Real
DESCRIPTION:
ATTACH;FMTTYPE=image/jpeg:https://www.fnclm.com/wordpress/wp-content/uploa
 ds/CartelSomosDeporteCiudadReal.jpeg
CATEGORIES:Ciudad Real
LOCATION:Valdepeñas\, Ciudad Real\, Tomelloso\, Valdepeñas\, Ciudad Real\
 , Tomelloso \, Valdepeñas\, Ciudad Real\, Tomelloso \, España
X-APPLE-STRUCTURED-LOCATION;VALUE=URI;X-ADDRESS=Valdepeñas\, Ciudad Real\,
  Tomelloso \, Valdepeñas\, Ciudad Real\, Tomelloso \, España;X-APPLE-RAD
 IUS=100;X-TITLE=Valdepeñas\, Ciudad Real\, Tomelloso:geo:0,0
END:VEVENT
BEGIN:VEVENT
UID:19@fnclm.com
DTSTART;TZID=Europe/Madrid;VALUE=DATE:20260509
DTEND;TZID=Europe/Madrid;VALUE=DATE:20260511
DTSTAMP:20260410T171013Z
URL:https://www.fnclm.com/wordpress/?event=6a-jornada-somos-deporte-3-18-t
 oledo
SUMMARY:6ª Jornada Somos Deporte 3-18 – Toledo
DESCRIPTION:
ATTACH;FMTTYPE=image/jpeg:https://www.fnclm.com/wordpress/wp-content/uploa
 ds/Toledo-1.png
CATEGORIES:Toledo
LOCATION:Talavera de la Reina\, Toledo\, Madridejos\, Talavera de la Reina\
 , Toledo\, Madridejos\, Talavera de la Reina\, Toledo\, Madridejos\, Espa
 ña
X-APPLE-STRUCTURED-LOCATION;VALUE=URI;X-ADDRESS=Talavera de la Reina\, Tole
 do\, Madridejos\, Talavera de la Reina\, Toledo\, Madridejos\, España;X-A
 PPLE-RADIUS=100;X-TITLE=Talavera de la Reina\, Toledo\, Madridejos:geo:0,0
END:VEVENT
BEGIN:VEVENT
UID:44@fnclm.com
DTSTART;TZID=Europe/Madrid;VALUE=DATE:20260509
DTEND;TZID=Europe/Madrid;VALUE=DATE:20260511
DTSTAMP:20260421T143656Z
URL:https://www.fnclm.com/wordpress/?event=campeonato-de-espana-de-natacio
 n-artistica-infantil-por-federaciones-autonomicas
SUMMARY:CAMPEONATO DE ESPAÑA DE NATACIÓN ARTÍSTICA  INFANTIL POR FEDERAC
 IONES AUTONÓMICAS
DESCRIPTION:\nCLAVE SPORTITY: NART25-26
ATTACH;FMTTYPE=image/jpeg:https://www.fnclm.com/wordpress/wp-content/uploa
 ds/20260509-10-CTO-ESPANA-FFAA-CARTEL.jpg
CATEGORIES:Nacionales,Natación Artística
LOCATION:Centro de Natación M-86\, Centro de Natación M-86\, Madrid \, Es
 paña
X-APPLE-STRUCTURED-LOCATION;VALUE=URI;X-ADDRESS=Centro de Natación M-86\, 
 Madrid \, España;X-APPLE-RADIUS=100;X-TITLE=Centro de Natación M-86:geo:
 0,0
END:VEVENT
BEGIN:VEVENT
UID:21@fnclm.com
DTSTART;TZID=Europe/Madrid;VALUE=DATE:20260523
DTEND;TZID=Europe/Madrid;VALUE=DATE:20260524
DTSTAMP:20260410T171255Z
URL:https://www.fnclm.com/wordpress/?event=trofeo-diputacion-de-albacete-c
 to-provincial-natacion-primavera
SUMMARY:Trofeo Diputación de Albacete – Cto. Provincial Natación Primav
 era
DESCRIPTION:
CATEGORIES:Albacete
LOCATION:Hellín (Albacete)\, Hellín (Albacete)\, Hellín (Albacete)\, Esp
 aña
X-APPLE-STRUCTURED-LOCATION;VALUE=URI;X-ADDRESS=Hellín (Albacete)\, Hellí
 n (Albacete)\, España;X-APPLE-RADIUS=100;X-TITLE=Hellín (Albacete):geo:0
 ,0
END:VEVENT
BEGIN:VEVENT
UID:38@fnclm.com
DTSTART;TZID=Europe/Madrid;VALUE=DATE:20260523
DTEND;TZID=Europe/Madrid;VALUE=DATE:20260524
DTSTAMP:20260413T075509Z
URL:https://www.fnclm.com/wordpress/?event=campeonato-provincial-alevin-y-
 benjamin-de-toledo
SUMMARY:CAMPEONATO PROVINCIAL ALEVÍN Y BENJAMÍN DE TOLEDO
DESCRIPTION:
CATEGORIES:Toledo
LOCATION:Piscina municipal del Salto del caballo (Toledo)\, Piscina municip
 al del Salto del caballo (Toledo)\, Piscina municipal del Salto del caball
 o (Toledo)\, España
X-APPLE-STRUCTURED-LOCATION;VALUE=URI;X-ADDRESS=Piscina municipal del Salto
  del caballo (Toledo)\, Piscina municipal del Salto del caballo (Toledo)\,
  España;X-APPLE-RADIUS=100;X-TITLE=Piscina municipal del Salto del caball
 o (Toledo):geo:0,0
END:VEVENT
BEGIN:VEVENT
UID:23@fnclm.com
DTSTART;TZID=Europe/Madrid;VALUE=DATE:20260523
DTEND;TZID=Europe/Madrid;VALUE=DATE:20260525
DTSTAMP:20260412T174702Z
URL:https://www.fnclm.com/wordpress/?event=4a-jornada-liga-clubes-de-natac
 ion-master-de-clm
SUMMARY:4ª Jornada Liga Clubes de Natación Máster de CLM
DESCRIPTION:
CATEGORIES:Máster
LOCATION:(Tomelloso) mañana y tarde\, (Tomelloso) mañana y tarde\, (Tomel
 loso) mañana y tarde\, España
X-APPLE-STRUCTURED-LOCATION;VALUE=URI;X-ADDRESS=(Tomelloso) mañana y tarde
 \, (Tomelloso) mañana y tarde\, España;X-APPLE-RADIUS=100;X-TITLE=(Tomel
 loso) mañana y tarde:geo:0,0
END:VEVENT
BEGIN:VEVENT
UID:39@fnclm.com
DTSTART;TZID=Europe/Madrid;VALUE=DATE:20260524
DTEND;TZID=Europe/Madrid;VALUE=DATE:20260525
DTSTAMP:20260413T075731Z
URL:https://www.fnclm.com/wordpress/?event=campeonato-provincial-open-de-n
 atacion-de-toledo-categorias-infantil-junior-y-senior
SUMMARY:CAMPEONATO PROVINCIAL OPEN DE NATACIÓN DE TOLEDO CATEGORÍAS INFAN
 TIL\, JUNIOR Y SENIOR
DESCRIPTION:
CATEGORIES:Toledo
LOCATION:Talavera de la Reina. Piscina Municipal “EL PRADO”\, Talavera 
 de la Reina. Piscina Municipal “EL PRADO”\, Talavera de la Reina. Pisc
 ina Municipal “EL PRADO”\, España
X-APPLE-STRUCTURED-LOCATION;VALUE=URI;X-ADDRESS=Talavera de la Reina. Pisci
 na Municipal “EL PRADO”\, Talavera de la Reina. Piscina Municipal “E
 L PRADO”\, España;X-APPLE-RADIUS=100;X-TITLE=Talavera de la Reina. Pisc
 ina Municipal “EL PRADO”:geo:0,0
END:VEVENT
BEGIN:VEVENT
UID:24@fnclm.com
DTSTART;TZID=Europe/Madrid:20260602T120000
DTEND;TZID=Europe/Madrid:20260602T120000
DTSTAMP:20260412T175228Z
URL:https://www.fnclm.com/wordpress/?event=plazo-tope-inscripcion-campeona
 to-regional-de-verano-master
SUMMARY:Plazo tope inscripción Campeonato Regional de Verano Máster
DESCRIPTION:
CATEGORIES:Plazos Tope
END:VEVENT
BEGIN:VEVENT
UID:25@fnclm.com
DTSTART;TZID=Europe/Madrid;VALUE=DATE:20260606
DTEND;TZID=Europe/Madrid;VALUE=DATE:20260607
DTSTAMP:20260412T175321Z
URL:https://www.fnclm.com/wordpress/?event=xxviii-memorial-toni-cuenca-iv-
 trofeo-master
SUMMARY:XXVIII Memorial Toni Cuenca – IV Trofeo Máster
DESCRIPTION:
CATEGORIES:Trofeos - Competiciones Clubes
LOCATION:Almansa (Albacete)\, Almansa (Albacete)\, Almansa (Albacete)\, Alm
 ansa (Albacete)\, España
X-APPLE-STRUCTURED-LOCATION;VALUE=URI;X-ADDRESS=Almansa (Albacete)\, Almans
 a (Albacete)\, Almansa (Albacete)\, España;X-APPLE-RADIUS=100;X-TITLE=Alm
 ansa (Albacete):geo:0,0
END:VEVENT
BEGIN:VEVENT
UID:28@fnclm.com
DTSTART;TZID=Europe/Madrid:20260609T120000
DTEND;TZID=Europe/Madrid:20260609T120000
DTSTAMP:20260412T175808Z
URL:https://www.fnclm.com/wordpress/?event=plazo-tope-inscripcion-cto-clm-
 benjamin-y-alevin-de-verano-2
SUMMARY:Plazo tope inscripción Cto. CLM Benjamín y Alevín de Verano
DESCRIPTION:
ATTACH;FMTTYPE=image/jpeg:https://www.fnclm.com/wordpress/wp-content/uploa
 ds/plazo-612x612-1.jpg
CATEGORIES:Plazos Tope
END:VEVENT
BEGIN:VEVENT
UID:26@fnclm.com
DTSTART;TZID=Europe/Madrid:20260609T120000
DTEND;TZID=Europe/Madrid:20260609T120000
DTSTAMP:20260412T175434Z
URL:https://www.fnclm.com/wordpress/?event=plazo-tope-inscripcion-cto-clm-
 benjamin-y-alevin-de-verano
SUMMARY:Plazo tope inscripción Cto. CLM Benjamín y Alevín de Verano
DESCRIPTION:[caption id="attachment_58009" align="aligncenter" width="300"]
  DEADLINE FLAT ICON[/caption]
ATTACH;FMTTYPE=image/jpeg:https://www.fnclm.com/wordpress/wp-content/uploa
 ds/plazo-612x612-1.jpg
CATEGORIES:Plazos Tope
END:VEVENT
BEGIN:VEVENT
UID:45@fnclm.com
DTSTART;TZID=Europe/Madrid:20260612T180000
DTEND;TZID=Europe/Madrid:20260612T203000
DTSTAMP:20260421T145206Z
URL:https://www.fnclm.com/wordpress/?event=clinic-de-remadas-natacion-arti
 stica
SUMMARY:Clinic de remadas - Natación Artística
DESCRIPTION: 
ATTACH;FMTTYPE=image/jpeg:https://www.fnclm.com/wordpress/wp-content/uploa
 ds/20260612-CARTEL-CLINIC-REMADAS-NEREA-SANCHEZ.jpg
CATEGORIES:Formación
LOCATION:Piscina Cubierta de Tarancón\, Piscina Cubierta de Tarancón \, P
 iscina Cubierta de Tarancón \, España
X-APPLE-STRUCTURED-LOCATION;VALUE=URI;X-ADDRESS=Piscina Cubierta de Taranc
 ón \, Piscina Cubierta de Tarancón \, España;X-APPLE-RADIUS=100;X-TITLE
 =Piscina Cubierta de Tarancón:geo:0,0
END:VEVENT
BEGIN:VEVENT
UID:29@fnclm.com
DTSTART;TZID=Europe/Madrid;VALUE=DATE:20260613
DTEND;TZID=Europe/Madrid;VALUE=DATE:20260615
DTSTAMP:20260412T175942Z
URL:https://www.fnclm.com/wordpress/?event=campeonato-territorial-de-veran
 o-open-de-natacion-artistica-de-clm
SUMMARY:Campeonato Territorial de Verano Open de Natación Artística de CL
 M
DESCRIPTION:
CATEGORIES:Natación Artística,Regional
LOCATION:Piscina Nuevo Toledo (Illescas)\, Piscina Nuevo Toledo (Illescas)\
 , Piscina Nuevo Toledo (Illescas)\, España
X-APPLE-STRUCTURED-LOCATION;VALUE=URI;X-ADDRESS=Piscina Nuevo Toledo (Illes
 cas)\, Piscina Nuevo Toledo (Illescas)\, España;X-APPLE-RADIUS=100;X-TITL
 E=Piscina Nuevo Toledo (Illescas):geo:0,0
END:VEVENT
BEGIN:VEVENT
UID:27@fnclm.com
DTSTART;TZID=Europe/Madrid;VALUE=DATE:20260613
DTEND;TZID=Europe/Madrid;VALUE=DATE:20260615
DTSTAMP:20260412T175550Z
URL:https://www.fnclm.com/wordpress/?event=campeonato-regional-master-de-v
 erano-p50
SUMMARY:Campeonato Regional Máster de Verano P50
DESCRIPTION:
CATEGORIES:Máster,Regional
END:VEVENT
BEGIN:VEVENT
UID:30@fnclm.com
DTSTART;TZID=Europe/Madrid:20260616T120000
DTEND;TZID=Europe/Madrid:20260616T120000
DTSTAMP:20260412T180048Z
URL:https://www.fnclm.com/wordpress/?event=plazo-tope-inscripcion-cto-de-c
 lm-absoluto-y-g-e-de-verano
SUMMARY:Plazo tope inscripción Cto. de CLM Absoluto y G.E. de Verano
DESCRIPTION:
ATTACH;FMTTYPE=image/jpeg:https://www.fnclm.com/wordpress/wp-content/uploa
 ds/plazo-612x612-1.jpg
CATEGORIES:Plazos Tope
END:VEVENT
BEGIN:VEVENT
UID:22@fnclm.com
DTSTART;TZID=Europe/Madrid;VALUE=DATE:20260619
DTEND;TZID=Europe/Madrid;VALUE=DATE:20260622
DTSTAMP:20260412T174211Z
URL:https://www.fnclm.com/wordpress/?event=copa-mediterranea-de-natacion-2
 026
SUMMARY:Copa Mediterránea de Natación 2026
DESCRIPTION:
CATEGORIES:Nacionales
LOCATION:Novi Sad (Serbia)\, Novi Sad (Serbia)\, Novi Sad (Serbia)\, Españ
 a
X-APPLE-STRUCTURED-LOCATION;VALUE=URI;X-ADDRESS=Novi Sad (Serbia)\, Novi Sa
 d (Serbia)\, España;X-APPLE-RADIUS=100;X-TITLE=Novi Sad (Serbia):geo:0,0
END:VEVENT
BEGIN:VEVENT
UID:31@fnclm.com
DTSTART;TZID=Europe/Madrid;VALUE=DATE:20260620
DTEND;TZID=Europe/Madrid;VALUE=DATE:20260622
DTSTAMP:20260412T180538Z
URL:https://www.fnclm.com/wordpress/?event=campeonato-regional-de-natacion
 -prebenjamin-benjamin-y-alevin-de-verano
SUMMARY:Campeonato Regional de Natación Prebenjamín\, Benjamín y Alevín
  de Verano
DESCRIPTION:
CATEGORIES:Regional
LOCATION:Tomelloso (Ciudad Real)\, Tomelloso (Ciudad Real)\, Tomelloso (Ciu
 dad Real)\, España
X-APPLE-STRUCTURED-LOCATION;VALUE=URI;X-ADDRESS=Tomelloso (Ciudad Real)\, T
 omelloso (Ciudad Real)\, España;X-APPLE-RADIUS=100;X-TITLE=Tomelloso (Ciu
 dad Real):geo:0,0
END:VEVENT
BEGIN:VEVENT
UID:32@fnclm.com
DTSTART;TZID=Europe/Madrid;VALUE=DATE:20260624
DTEND;TZID=Europe/Madrid;VALUE=DATE:20260629
DTSTAMP:20260412T181358Z
URL:https://www.fnclm.com/wordpress/?event=cxiii-campeonato-de-espana-abso
 luto-p50-open-trials-astralpool
SUMMARY:CXIII Campeonato de España Absoluto P50 "Open" Trials – Astralpo
 ol
DESCRIPTION:
CATEGORIES:Nacionales
LOCATION:Son Hugo-Palma\, Son Hugo-Palma\, Son Hugo-Palma\, España
X-APPLE-STRUCTURED-LOCATION;VALUE=URI;X-ADDRESS=Son Hugo-Palma\, Son Hugo-P
 alma\, España;X-APPLE-RADIUS=100;X-TITLE=Son Hugo-Palma:geo:0,0
END:VEVENT
BEGIN:VEVENT
UID:33@fnclm.com
DTSTART;TZID=Europe/Madrid;VALUE=DATE:20260702
DTEND;TZID=Europe/Madrid;VALUE=DATE:20260706
DTSTAMP:20260412T180729Z
URL:https://www.fnclm.com/wordpress/?event=xxxvi-campeonato-de-espana-open
 -de-verano-natacion-master
SUMMARY:XXXVI Campeonato de España "Open" de Verano Natación Máster
DESCRIPTION:
CATEGORIES:Máster,Nacionales
END:VEVENT
BEGIN:VEVENT
UID:34@fnclm.com
DTSTART;TZID=Europe/Madrid;VALUE=DATE:20260709
DTEND;TZID=Europe/Madrid;VALUE=DATE:20260713
DTSTAMP:20260412T180818Z
URL:https://www.fnclm.com/wordpress/?event=xiii-campeonato-de-espana-alevi
 n-de-natacion-p50
SUMMARY:XIII Campeonato de España Alevín de Natación P50
DESCRIPTION:
CATEGORIES:Nacionales
END:VEVENT
BEGIN:VEVENT
UID:35@fnclm.com
DTSTART;TZID=Europe/Madrid;VALUE=DATE:20260716
DTEND;TZID=Europe/Madrid;VALUE=DATE:20260720
DTSTAMP:20260412T180916Z
URL:https://www.fnclm.com/wordpress/?event=xlvii-campeonato-de-espana-infa
 ntil-de-natacion-de-verano-p50
SUMMARY:XLVII Campeonato de España Infantil de Natación de Verano P50
DESCRIPTION:
CATEGORIES:Nacionales
END:VEVENT
BEGIN:VEVENT
UID:37@fnclm.com
DTSTART;TZID=Europe/Madrid;VALUE=DATE:20260723
DTEND;TZID=Europe/Madrid;VALUE=DATE:20260727
DTSTAMP:20260412T181031Z
URL:https://www.fnclm.com/wordpress/?event=campeonato-de-europa-junior-de-
 aguas-abiertas
SUMMARY:Campeonato de Europa Junior de Aguas Abiertas
DESCRIPTION:
CATEGORIES:Aguas Abiertas,Nacionales
END:VEVENT
BEGIN:VEVENT
UID:36@fnclm.com
DTSTART;TZID=Europe/Madrid;VALUE=DATE:20260723
DTEND;TZID=Europe/Madrid;VALUE=DATE:20260727
DTSTAMP:20260412T180956Z
URL:https://www.fnclm.com/wordpress/?event=xlvii-campeonato-de-espana-juni
 or-de-natacion-de-verano-p50
SUMMARY:XLVII Campeonato de España Junior de Natación de Verano P50
DESCRIPTION:
CATEGORIES:Nacionales
END:VEVENT
BEGIN:VTIMEZONE
TZID:Europe/Madrid
X-LIC-LOCATION:Europe/Madrid
BEGIN:STANDARD
DTSTART:20251026T020000
TZOFFSETFROM:+0200
TZOFFSETTO:+0100
TZNAME:CET
END:STANDARD
BEGIN:DAYLIGHT
DTSTART:20260329T030000
TZOFFSETFROM:+0100
TZOFFSETTO:+0200
TZNAME:CEST
END:DAYLIGHT
END:VTIMEZONE
END:VCALENDAR